BEGIN:VCALENDAR
VERSION:2.0
PRODID:-//Creative Twist Events - ECPv6.15.20//NONSGML v1.0//EN
CALSCALE:GREGORIAN
METHOD:PUBLISH
X-ORIGINAL-URL:https://creativetwistevents.com
X-WR-CALDESC:Events for Creative Twist Events
REFRESH-INTERVAL;VALUE=DURATION:PT1H
X-Robots-Tag:noindex
X-PUBLISHED-TTL:PT1H
BEGIN:VTIMEZONE
TZID:America/New_York
BEGIN:DAYLIGHT
TZOFFSETFROM:-0500
TZOFFSETTO:-0400
TZNAME:EDT
DTSTART:20250309T070000
END:DAYLIGHT
BEGIN:STANDARD
TZOFFSETFROM:-0400
TZOFFSETTO:-0500
TZNAME:EST
DTSTART:20251102T060000
END:STANDARD
BEGIN:DAYLIGHT
TZOFFSETFROM:-0500
TZOFFSETTO:-0400
TZNAME:EDT
DTSTART:20260308T070000
END:DAYLIGHT
BEGIN:STANDARD
TZOFFSETFROM:-0400
TZOFFSETTO:-0500
TZNAME:EST
DTSTART:20261101T060000
END:STANDARD
BEGIN:DAYLIGHT
TZOFFSETFROM:-0500
TZOFFSETTO:-0400
TZNAME:EDT
DTSTART:20270314T070000
END:DAYLIGHT
BEGIN:STANDARD
TZOFFSETFROM:-0400
TZOFFSETTO:-0500
TZNAME:EST
DTSTART:20271107T060000
END:STANDARD
END:VTIMEZONE
BEGIN:VEVENT
DTSTART;VALUE=DATE:20260622
DTEND;VALUE=DATE:20260815
DTSTAMP:20260420T164837
CREATED:20260120T123053Z
LAST-MODIFIED:20260203T095845Z
UID:10001668-1782090000-1786669199@creativetwistevents.com
SUMMARY:Summer Camp 2026
DESCRIPTION:June 22nd – August 13th \nAre you signing up for more than 3 weeks? Contact us for a special discount \nJoin us for a summer filled with creativity\, confidence-building\, and joyful learning. At Creative Twist Events Summer Camp\, campers spend their days creating\, experimenting\, cooking\, baking\, and collaborating in a nurturing\, project-based environment designed to spark curiosity and imagination. \nOur camp blends the best of creative arts\, STEAM exploration\, and kitchen confidence\, giving children the opportunity to learn through hands-on experiences while building friendships and life skills in a safe\, supportive setting. \nThis is a camp where kids don’t just follow instructions\, they create\, problem-solve\, and take pride in what they make. \nWhat Campers Will Experience\nEach week at camp is thoughtfully designed to balance structure with creative freedom. Campers will: \n\nParticipate in hands-on art\, design\, and maker projects\nExplore STEAM concepts through playful experimentation\nBuild kitchen confidence through guided cooking and baking experiences\nCollaborate with peers on themed creative challenges\nTake home finished artwork\, projects\, and delicious creations throughout the week\n\nOur programs are process-focused rather than cookie-cutter\, allowing every child to express themselves while learning new skills. \nTwo Creative Experiences in One Day\nWe’re proud to continue our multi-year partnership with Purple Cow Cakery\, offering families the best of both worlds in one seamless camp experience. \n\nMorning: Campers bake and cook with Purple Cow Cakery (sign up directly with Purple Cow Cakery)\nAfternoon: Campers transition (same location) to Creative Twist Events for art\, STEAM\, and creative projects\nA scheduled lunch break allows for an easy and organized “changing of the guard” between programs\n\nThis proven format provides campers with two enriching\, complementary experiences in a single day\, all in one familiar\, comfortable environment.\n \nCamp Weeks\nEach week offers a unique creative focus. While themes may sound familiar\, projects and experiences are refreshed each summer\, making the program engaging for both new and returning campers. \n\nWEEK 1 – HERE COMES THE SUN – June 22nd – June 25th\nWEEK 2 – SPRINKLE STUDIO  – June 29th – July 2nd\nWEEK 3 – SHARK TANK JUNIOR: CREATIVE ENTREPRENEURS – July 6th – July 9th\nWEEK 4 – MAKER FACTORY – July 13th – July 16th\nWEEK 5 – GLOBAL MAKERS – July 20th – July 23rd\nWEEK 6 – SCIENCE LAB REMIX – July 27th – Jul 30th\nWEEK 7 – SUMMER STUDIO – Aug 3rd – Aug 6th\nWEEK 8 – THE BEST OF August 10th – August 13th\n\nWe still have available spots all weeks. TO SIGN UP PLEASE EMAIL US AT: events@creativetwistevents.com \nCamp Schedule and Pricing\n\nMorning: 9 AM – 12PM (Drop-off at 8:30 AM): $350 per session / per week (sign up with Purple Cow Cakery directly)\nAfternoon: 12:30 PM – 4:00 PM (Pick-up until 4:30 PM): $350 per session / per week\nFull Day: 9:00 AM – 4:00 PM (Drop-off begins at 8:30 AM Pick-up available until 4:30 PM): $650 Full Day / per week (save $50)\n\nMost families choose 2–3 weeks to experience the full creative journey. Multi-week enrollment incentives are available and automatically applied at checkout. \nCamp Details\n\nAges: Rising Kindergarten and up\nSchedule: Monday through Thursday\nPlease pack water\, and snacks\nFull-day campers should pack a lunch and drink\n\n  \nIMPORTANT INFORMATION\nOur camp programming is designed with flexibility in mind. Activities may adapt based on weather\, space\, and group dynamics to ensure the best possible experience each week. \nPhotography and video may be taken throughout camp for use on our website and social media. If you prefer that your child not be photographed\, please notify us prior to your camper’s week. \nTo ensure a safe and enjoyable experience\, camper information forms must be completed in full for each week of attendance\, including emergency contacts\, medical needs\, and allergies. \nOur experienced counselors rely on this information to create a safe\, inclusive\, and positive environment for every camper. \nRegistration & Questions\nSpots are limited and tend to fill quickly. \nIf you have any questions or concerns about your child’s individual needs\, we’re always happy to connect before booking. \nWe can’t wait to spend the summer creating\, exploring\, and making memories together!
URL:https://creativetwistevents.com/event/summer-camp-2026/
LOCATION:Creative Twist Events\, 10 Pearl Street\, Metuchen\, NJ\, 08840\, United States
ATTACH;FMTTYPE=image/png:https://creativetwistevents.com/wp-content/uploads/2024/01/Summer-Camp-Banner-1.png
END:VEVENT
END:VCALENDAR