BEGIN:VCALENDAR
VERSION:2.0
PRODID:-//Creative Twist Events - ECPv6.15.20//NONSGML v1.0//EN
CALSCALE:GREGORIAN
METHOD:PUBLISH
X-WR-CALNAME:Creative Twist Events
X-ORIGINAL-URL:https://creativetwistevents.com
X-WR-CALDESC:Events for Creative Twist Events
REFRESH-INTERVAL;VALUE=DURATION:PT1H
X-Robots-Tag:noindex
X-PUBLISHED-TTL:PT1H
BEGIN:VTIMEZONE
TZID:America/New_York
BEGIN:DAYLIGHT
TZOFFSETFROM:-0500
TZOFFSETTO:-0400
TZNAME:EDT
DTSTART:20250309T070000
END:DAYLIGHT
BEGIN:STANDARD
TZOFFSETFROM:-0400
TZOFFSETTO:-0500
TZNAME:EST
DTSTART:20251102T060000
END:STANDARD
BEGIN:DAYLIGHT
TZOFFSETFROM:-0500
TZOFFSETTO:-0400
TZNAME:EDT
DTSTART:20260308T070000
END:DAYLIGHT
BEGIN:STANDARD
TZOFFSETFROM:-0400
TZOFFSETTO:-0500
TZNAME:EST
DTSTART:20261101T060000
END:STANDARD
BEGIN:DAYLIGHT
TZOFFSETFROM:-0500
TZOFFSETTO:-0400
TZNAME:EDT
DTSTART:20270314T070000
END:DAYLIGHT
BEGIN:STANDARD
TZOFFSETFROM:-0400
TZOFFSETTO:-0500
TZNAME:EST
DTSTART:20271107T060000
END:STANDARD
END:VTIMEZONE
BEGIN:VEVENT
DTSTART;TZID=America/New_York:20260305T190000
DTEND;TZID=America/New_York:20260305T200000
DTSTAMP:20260420T084642
CREATED:20260218T220802Z
LAST-MODIFIED:20260219T010636Z
UID:10001670-1772737200-1772740800@creativetwistevents.com
SUMMARY:Slow Thursdays – Home Goods Studio Tea Towel and Spoon Painting
DESCRIPTION:Slow down and turn everyday items into something special. In this hands-on workshop\, guests will paint a cotton tea towel and a wooden spoon set using fun materials and learning new brush techniques. This relaxed evening is designed for creativity without pressure and results in functional pieces you can use or gift. No experience needed. All materials are included. \nThursday\, March 5th \n7PM – 9PM \nNewmarket \n19 New Street\, Metuchen\, NJ \n$38 p/p. Limited to 12 guests. To sign up send us an email at events@creativetwistevents.com
URL:https://creativetwistevents.com/event/slow-thursdays-home-goods-studio-tea-towel-and-spoon-painting-2/
LOCATION:Newmarket Metuchen\, 19 New street\, Metuchen\, NJ\, 08840\, United States
ATTACH;FMTTYPE=image/jpeg:https://creativetwistevents.com/wp-content/uploads/2026/02/IMG_3108-scaled.jpeg
END:VEVENT
BEGIN:VEVENT
DTSTART;TZID=America/New_York:20260311T190000
DTEND;TZID=America/New_York:20260311T210000
DTSTAMP:20260420T084642
CREATED:20260219T003542Z
LAST-MODIFIED:20260309T204827Z
UID:10001671-1773255600-1773262800@creativetwistevents.com
SUMMARY:Spring Wreath Making Experience
DESCRIPTION:Join us for a relaxed and creative evening designing your own seasonal wreath using a curated selection of greenery\, florals\, and natural textures. \nDuring this hands-on workshop\, our team will guide you through the basics of wreath composition while giving you the freedom to create something that reflects your personal style. Whether you hang it on your front door\, display it indoors\, or gift it to someone special\, your finished piece will bring a fresh touch of spring to your space. \nThis workshop is designed to feel like a creative night out! Welcoming\, social\, and inspiring. \nNo experience needed. All materials are included. \nWednesday\, March 11th \n7PM – 9PM \nNewmarket \n19 New Street\, Metuchen\, NJ \n$48 p/p. Limited to 8 guests.
URL:https://creativetwistevents.com/event/wreath-making-experience/
LOCATION:Creative Twist Events\, 10 Pearl Street\, Metuchen\, NJ\, 08840\, United States
ATTACH;FMTTYPE=image/jpeg:https://creativetwistevents.com/wp-content/uploads/2026/02/IMG_0195-scaled.jpeg
END:VEVENT
BEGIN:VEVENT
DTSTART;TZID=America/New_York:20260315T110000
DTEND;TZID=America/New_York:20260315T130000
DTSTAMP:20260420T084642
CREATED:20260303T215445Z
LAST-MODIFIED:20260310T013805Z
UID:10001674-1773572400-1773579600@creativetwistevents.com
SUMMARY:Summer Camp Open House
DESCRIPTION:Join us for a special Summer Camp Open House!\nThis event is designed for both prospective campers and families who have already signed up and would like to learn more about what makes our camp such a unique and memorable experience.\nStop by to meet the faces behind the program\, explore the space where the magic happens\, and participate in a few hands-on activities inspired by the creative projects we have planned for this summer. We’ll also be sharing more about our camp themes\, daily schedule\, and the fun\, hands-on experiences campers will enjoy all season long.\nFamilies will have the opportunity to ask questions\, connect with the instructors\, and get a feel for the camp environment before summer begins.\nWhether you’re still deciding or simply counting down the days until camp starts\, we’d love to welcome you and your camper. \nHosted by Creative Twist Events & Purple Cow Cakery
URL:https://creativetwistevents.com/event/summer-camp-open-house/
LOCATION:Creative Twist Events\, 10 Pearl Street\, Metuchen\, NJ\, 08840\, United States
ATTACH;FMTTYPE=image/jpeg:https://creativetwistevents.com/wp-content/uploads/2026/03/P1280213_Original-scaled.jpeg
END:VEVENT
BEGIN:VEVENT
DTSTART;TZID=America/New_York:20260318T190000
DTEND;TZID=America/New_York:20260318T210000
DTSTAMP:20260420T084642
CREATED:20260219T003950Z
LAST-MODIFIED:20260318T155738Z
UID:10001672-1773860400-1773867600@creativetwistevents.com
SUMMARY:Little Luxuries Night: Hand-Painted Trinket Dishes
DESCRIPTION:Spend a cozy evening creating a small but beautiful piece for your home. \nIn this workshop\, guests will design and paint their own ceramic trinket dish\, perfect for jewelry\, bedside essentials\, or small keepsakes. We’ll provide inspiration\, color palettes\, and guidance so you can create a piece that feels uniquely yours. \nThis event is part of our Little Luxuries series\, celebrating simple creative moments that add beauty to everyday life. \nWednesday\, March 18th \n7PM – 9PM \nNewmarket \n19 New Street\, Metuchen\, NJ \n$38 p/p. Limited to 12 guests.
URL:https://creativetwistevents.com/event/little-luxuries-trinket-dish-painting/
LOCATION:Newmarket Metuchen\, 19 New street\, Metuchen\, NJ\, 08840\, United States
ATTACH;FMTTYPE=image/webp:https://creativetwistevents.com/wp-content/uploads/2026/01/14054168_1155394757832744_5646900646551063780_n.webp
END:VEVENT
BEGIN:VEVENT
DTSTART;TZID=America/New_York:20260322T150000
DTEND;TZID=America/New_York:20260322T190000
DTSTAMP:20260420T084642
CREATED:20260309T220143Z
LAST-MODIFIED:20260309T220143Z
UID:10001675-1774191600-1774206000@creativetwistevents.com
SUMMARY:The Bridal Edit: A Curated Bridal Experience
DESCRIPTION:Introducing The Bridal Edit! \nJoin us for an intimate\, curated bridal experience designed to inspire elevated celebrations and thoughtful details for bridal showers\, engagement parties\, and wedding weekends. \nJoin us at Newmarket for an afternoon featuring custom fragrance blending\, charm and floral bars\, live engraving\, cake tastings\, and a collection of beautifully curated takeaways throughout the experience. \nWhether you are planning your own celebration\, supporting someone special\, or simply gathering ideas\, this event was created to offer inspiration in a setting designed to feel intentional\, beautiful\, and personal. \nMarch 22 | 3PM–7PM\nNewmarket | Metuchen\, NJ \nRSVP required. Limited availability. RSVP here: https://www.eventbrite.com/e/the-bridal-edit-tickets-1984063955701?aff=oddtdtcreator&keep_tld=true
URL:https://creativetwistevents.com/event/the-bridal-edit-a-curated-bridal-experience/
LOCATION:Newmarket Metuchen\, 19 New street\, Metuchen\, NJ\, 08840\, United States
ATTACH;FMTTYPE=image/jpeg:https://creativetwistevents.com/wp-content/uploads/2026/02/IMG_2720.jpeg
END:VEVENT
BEGIN:VEVENT
DTSTART;TZID=America/New_York:20260329T100000
DTEND;TZID=America/New_York:20260329T130000
DTSTAMP:20260420T084642
CREATED:20260219T004718Z
LAST-MODIFIED:20260309T205233Z
UID:10001673-1774778400-1774789200@creativetwistevents.com
SUMMARY:Hop Into Spring: Family Celebration at Newmarket
DESCRIPTION:Celebrate the arrival of spring with a fun-filled family morning at Newmarket! \nChildren will meet the Easter Bunny\, pose for a photo in front of our festive spring backdrop\, and decorate their own cupcake and picture frame to take home. \nThis event is designed to create sweet seasonal memories with hands-on activities\, adorable photo moments\, and a little creative fun for everyone. \nPerfect for families looking for a cheerful spring outing. \nDate: March 29th\, 2026\nLocation: Newmarket – 19 New Street\, Metuchen NJ\nPictures with the Easter bunny: 10am-1pm\nCraft activity has 3 seatings –  10am\,10:45\, 11:30\n$20 per child\, $10 for siblings  \n(Includes a printed picture\, and a cupcake decorating activity).
URL:https://creativetwistevents.com/event/hop-into-spring-event-4/
LOCATION:Newmarket Metuchen\, 19 New street\, Metuchen\, NJ\, 08840\, United States
ATTACH;FMTTYPE=image/jpeg:https://creativetwistevents.com/wp-content/uploads/2026/02/easter-cupcakes-scaled.jpg
END:VEVENT
END:VCALENDAR