BEGIN:VCALENDAR
VERSION:2.0
PRODID:-//Creative Twist Events - ECPv6.15.20//NONSGML v1.0//EN
CALSCALE:GREGORIAN
METHOD:PUBLISH
X-WR-CALNAME:Creative Twist Events
X-ORIGINAL-URL:https://creativetwistevents.com
X-WR-CALDESC:Events for Creative Twist Events
REFRESH-INTERVAL;VALUE=DURATION:PT1H
X-Robots-Tag:noindex
X-PUBLISHED-TTL:PT1H
BEGIN:VTIMEZONE
TZID:America/New_York
BEGIN:DAYLIGHT
TZOFFSETFROM:-0500
TZOFFSETTO:-0400
TZNAME:EDT
DTSTART:20250309T070000
END:DAYLIGHT
BEGIN:STANDARD
TZOFFSETFROM:-0400
TZOFFSETTO:-0500
TZNAME:EST
DTSTART:20251102T060000
END:STANDARD
BEGIN:DAYLIGHT
TZOFFSETFROM:-0500
TZOFFSETTO:-0400
TZNAME:EDT
DTSTART:20260308T070000
END:DAYLIGHT
BEGIN:STANDARD
TZOFFSETFROM:-0400
TZOFFSETTO:-0500
TZNAME:EST
DTSTART:20261101T060000
END:STANDARD
BEGIN:DAYLIGHT
TZOFFSETFROM:-0500
TZOFFSETTO:-0400
TZNAME:EDT
DTSTART:20270314T070000
END:DAYLIGHT
BEGIN:STANDARD
TZOFFSETFROM:-0400
TZOFFSETTO:-0500
TZNAME:EST
DTSTART:20271107T060000
END:STANDARD
END:VTIMEZONE
BEGIN:VEVENT
DTSTART;TZID=America/New_York:20260212T183000
DTEND;TZID=America/New_York:20260212T203000
DTSTAMP:20260420T194743
CREATED:20260102T175832Z
LAST-MODIFIED:20260125T145551Z
UID:10001663-1770921000-1770928200@creativetwistevents.com
SUMMARY:Slow Thursdays - The Art of Perfume Blending Experience
DESCRIPTION:Slow down and explore the art of fragrance blending. In this guided experience\, guests will create a custom perfume using a curated selection of fragrance notes. You will learn basic scent layering techniques and leave with a personalized perfume. \nThursday\, February 12th \n6:30 PM – 8:30 PM \nNewmarket \n19 New Street\, Metuchen\, NJ \n$45 p/p. Limited to 12 guests. To sign up send us an email at events@creativetwistevents.com
URL:https://creativetwistevents.com/event/slow-thursdays-the-art-of-perfume-blending-experience/
LOCATION:Newmarket Metuchen\, 19 New street\, Metuchen\, NJ\, 08840\, United States
ATTACH;FMTTYPE=image/jpeg:https://creativetwistevents.com/wp-content/uploads/2024/12/young-perfumer-blending-essential-oils-scaled.jpg
END:VEVENT
BEGIN:VEVENT
DTSTART;TZID=America/New_York:20260213T183000
DTEND;TZID=America/New_York:20260213T203000
DTSTAMP:20260420T194743
CREATED:20260102T181038Z
LAST-MODIFIED:20260125T150059Z
UID:10001665-1771007400-1771014600@creativetwistevents.com
SUMMARY:The Un-Valentine Self Love Club
DESCRIPTION:Join us for a relaxed\, anti-Valentine creative night focused on slowing down and reconnecting with yourself. During this workshop\, guests will paint tapered candles learning new techniques\, creating pieces meant to be lit\, gifted\, or kept as a reminder to protect your peace. \nEach guest will receive a paracord bracelet with one charm! \nNo experience needed. All materials are provided. \nFriday\, February 13th \n6:30 PM – 8:30 PM \nNewmarket \n19 New Street\, Metuchen\, NJ \n$38 p/p. Limited to 12 guests. To sign up send us an email at events@creativetwistevents.com
URL:https://creativetwistevents.com/event/the-un-valentine-self-love-club/
LOCATION:Newmarket Metuchen\, 19 New street\, Metuchen\, NJ\, 08840\, United States
ATTACH;FMTTYPE=image/jpeg:https://creativetwistevents.com/wp-content/uploads/2023/10/2023-10-17-10.11.03-scaled.jpg
END:VEVENT
BEGIN:VEVENT
DTSTART;TZID=America/New_York:20260226T183000
DTEND;TZID=America/New_York:20260226T203000
DTSTAMP:20260420T194743
CREATED:20260102T180328Z
LAST-MODIFIED:20260208T204541Z
UID:10001664-1772130600-1772137800@creativetwistevents.com
SUMMARY:Adult Craft Night @NM - Scent & Settle: Botanical Reed Diffuser DIY
DESCRIPTION:Create a calming scent for your space during this relaxed diffuser-making workshop. Guests will blend fragrance oils and assemble a reed diffuser to take home. This experience is perfect for those looking to create a peaceful atmosphere and enjoy a mindful creative evening. \nThursday\, February 26th \n6:30 PM – 8:30 PM \nNewmarket \n19 New Street\, Metuchen\, NJ \n$52 p/p. Limited to 12 guests. To sign up send us an email at events@creativetwistevents.com
URL:https://creativetwistevents.com/event/adult-craft-night-nm-scent-settle-botanical-reed-diffuser-diy/
LOCATION:Newmarket Metuchen\, 19 New street\, Metuchen\, NJ\, 08840\, United States
ATTACH;FMTTYPE=image/jpeg:https://creativetwistevents.com/wp-content/uploads/2023/10/2023-10-17-10.10.45.jpg
END:VEVENT
END:VCALENDAR