BEGIN:VCALENDAR
VERSION:2.0
PRODID:-//Creative Twist Events - ECPv6.15.20//NONSGML v1.0//EN
CALSCALE:GREGORIAN
METHOD:PUBLISH
X-WR-CALNAME:Creative Twist Events
X-ORIGINAL-URL:https://creativetwistevents.com
X-WR-CALDESC:Events for Creative Twist Events
REFRESH-INTERVAL;VALUE=DURATION:PT1H
X-Robots-Tag:noindex
X-PUBLISHED-TTL:PT1H
BEGIN:VTIMEZONE
TZID:America/New_York
BEGIN:DAYLIGHT
TZOFFSETFROM:-0500
TZOFFSETTO:-0400
TZNAME:EDT
DTSTART:20190310T070000
END:DAYLIGHT
BEGIN:STANDARD
TZOFFSETFROM:-0400
TZOFFSETTO:-0500
TZNAME:EST
DTSTART:20191103T060000
END:STANDARD
BEGIN:DAYLIGHT
TZOFFSETFROM:-0500
TZOFFSETTO:-0400
TZNAME:EDT
DTSTART:20200308T070000
END:DAYLIGHT
BEGIN:STANDARD
TZOFFSETFROM:-0400
TZOFFSETTO:-0500
TZNAME:EST
DTSTART:20201101T060000
END:STANDARD
BEGIN:DAYLIGHT
TZOFFSETFROM:-0500
TZOFFSETTO:-0400
TZNAME:EDT
DTSTART:20210314T070000
END:DAYLIGHT
BEGIN:STANDARD
TZOFFSETFROM:-0400
TZOFFSETTO:-0500
TZNAME:EST
DTSTART:20211107T060000
END:STANDARD
BEGIN:DAYLIGHT
TZOFFSETFROM:-0500
TZOFFSETTO:-0400
TZNAME:EDT
DTSTART:20220313T070000
END:DAYLIGHT
BEGIN:STANDARD
TZOFFSETFROM:-0400
TZOFFSETTO:-0500
TZNAME:EST
DTSTART:20221106T060000
END:STANDARD
BEGIN:DAYLIGHT
TZOFFSETFROM:-0500
TZOFFSETTO:-0400
TZNAME:EDT
DTSTART:20230312T070000
END:DAYLIGHT
BEGIN:STANDARD
TZOFFSETFROM:-0400
TZOFFSETTO:-0500
TZNAME:EST
DTSTART:20231105T060000
END:STANDARD
BEGIN:DAYLIGHT
TZOFFSETFROM:-0500
TZOFFSETTO:-0400
TZNAME:EDT
DTSTART:20240310T070000
END:DAYLIGHT
BEGIN:STANDARD
TZOFFSETFROM:-0400
TZOFFSETTO:-0500
TZNAME:EST
DTSTART:20241103T060000
END:STANDARD
BEGIN:DAYLIGHT
TZOFFSETFROM:-0500
TZOFFSETTO:-0400
TZNAME:EDT
DTSTART:20250309T070000
END:DAYLIGHT
BEGIN:STANDARD
TZOFFSETFROM:-0400
TZOFFSETTO:-0500
TZNAME:EST
DTSTART:20251102T060000
END:STANDARD
BEGIN:DAYLIGHT
TZOFFSETFROM:-0500
TZOFFSETTO:-0400
TZNAME:EDT
DTSTART:20260308T070000
END:DAYLIGHT
BEGIN:STANDARD
TZOFFSETFROM:-0400
TZOFFSETTO:-0500
TZNAME:EST
DTSTART:20261101T060000
END:STANDARD
END:VTIMEZONE
BEGIN:VEVENT
DTSTART;TZID=America/New_York:20250302T110000
DTEND;TZID=America/New_York:20250302T130000
DTSTAMP:20260420T214732
CREATED:20250115T012436Z
LAST-MODIFIED:20250126T192030Z
UID:10001655-1740913200-1740920400@creativetwistevents.com
SUMMARY:Vision Board with Inspired Elephant
DESCRIPTION:This is a HIGH ENERGY\, EXTREMELY FUN\, and CREATIVELY TRANSFORMATIONAL workshop that produces results! \nIf you’re ready to GET FOCUSED on what you REALLY want in life… \nIf you’re ready to IDENTIFY and CLARIFY your goals… \nAnd if you want to HAVE FUN in a supportive atmosphere while doing it JOIN US.  \nSign up here: https://docs.google.com/forms/d/e/1FAIpQLScEJNcXSU9jIRr3Z8Xmb-6nGLLjMc77-X3EQyhHcEu1BTIdGg/viewform
URL:https://creativetwistevents.com/event/vision-board-with-inspired-elephant/
LOCATION:Creative Twist Events\, 10 Pearl Street\, Metuchen\, NJ\, 08840\, United States
ATTACH;FMTTYPE=image/jpeg:https://creativetwistevents.com/wp-content/uploads/2024/01/person-setting-their-new-year-goals-scaled.jpg
ORGANIZER;CN="Inspired Elephant":MAILTO:theherd@inspiredelephant.com
END:VEVENT
BEGIN:VEVENT
DTSTART;TZID=America/New_York:20230122T110000
DTEND;TZID=America/New_York:20230122T130000
DTSTAMP:20260420T214732
CREATED:20230103T154704Z
LAST-MODIFIED:20230103T155216Z
UID:10001368-1674385200-1674392400@creativetwistevents.com
SUMMARY:Vision Board Workshop (Jan. 2023)
DESCRIPTION:Vision Board Workshop\nWHEN: Sunday. Jan. 22nd\, 11 AM – 1 PM \nWHERE: 10 Pearl St\, Metuchen\, NJ 08840 \nFEE: $45 pre-register / $50 at the door \nTurn your resolutions into resolve with your very own vision board that helps you SEE the best possible you! Join us\, in crafting a visual mission statement that will help you intentionally move toward who you want to be! \nIn this hands-on workshop\, you will: \n\nCreate your own personalized and framed Vision Board to take home with you\nMove away from what you don’t want and figure out WHAT YOU DO WANT\nDiscover different ways to make Vision Boards based on what you want\nLearn how to manifest from your Vision Board daily!\n\nPURCHASE TICKETS HERE
URL:https://creativetwistevents.com/event/vision-board-workshop-jan-2023/
LOCATION:Creative Twist Events\, 10 Pearl Street\, Metuchen\, NJ\, 08840\, United States
ATTACH;FMTTYPE=image/jpeg:https://creativetwistevents.com/wp-content/uploads/2023/01/GOALS.jpg
ORGANIZER;CN="Inspired Elephant":MAILTO:theherd@inspiredelephant.com
END:VEVENT
BEGIN:VEVENT
DTSTART;TZID=America/New_York:20210220T190000
DTEND;TZID=America/New_York:20210220T200000
DTSTAMP:20260420T214732
CREATED:20210128T153328Z
LAST-MODIFIED:20210128T160431Z
UID:10001419-1613847600-1613851200@creativetwistevents.com
SUMMARY:2021 Vision Board Kit and Virtual Party
DESCRIPTION:Time to create a Custom Vision Board for 2021 and transform your goals into reality. This complete dream board kit has all the supplies needed to visualize your future and includes a guided virtual party for additional inspiration. \nKit Includes: \n·       Instruction Card (How to DIY and/or Join the Virtual Party) \n·       8×11 Black Frame \n·       2 poster boards \n·       Glue & Scissors \n·       Color and decorative paper \n·       Embellishments (Quote decals\, stickers\, cut-outs\, etc.) \n·       How to Manifest Your Board Tip Sheet \nA Magazine Selection Day: \n·       Come by Event Open House to select some magazines \n·       Thursday\, Feb. 18th from 4 PM – 8 PM \n·       At Creative Twist Events \nVirtual Party: \n·       To be held Saturday\, Feb 20th\, from 7 PM – 8 PM \n·       Be inspired by community \n·      Learn more about how to manifest from your board to life \nCLICK HERE to purchase kits through Inspired Elephant’s website
URL:https://creativetwistevents.com/event/2021-vision-board-kit-and-virtual-party/
LOCATION:CTE Zoom
ATTACH;FMTTYPE=image/jpeg:https://creativetwistevents.com/wp-content/uploads/2021/01/vision-board-scaled.jpg
END:VEVENT
BEGIN:VEVENT
DTSTART;TZID=America/New_York:20200301T110000
DTEND;TZID=America/New_York:20200301T130000
DTSTAMP:20260420T214732
CREATED:20200121T173739Z
LAST-MODIFIED:20200130T184254Z
UID:10001370-1583060400-1583067600@creativetwistevents.com
SUMMARY:Get Inspired: Vision Board Workshop
DESCRIPTION:Mimosas and Dreaming\nTurn your 2020 resolutions into resolve with your very own vision board that helps you SEE the best possible you! Join Cher and Carolyn\, Co-Founders of Inspired Elephant\, in crafting a visual mission statement that will help you intentionally move toward who you want to be! \nThis is a highly interactive and FUN event where we will help you create a visual representation of your dreams and share tactics on how to bring those dreams into fruition. At this hands-on workshop\, you will: \n* Create your own personalized and framed Vision Board to take home with you \n* Move away from what you don’t want and figure out WHAT YOU DO WANT \n* Discover different ways to make Vision Boards based on what you want \n* Learn how to manifest from your Vision Board daily \nIf you’re ready to GET FOCUSED on what you REALLY want in life…\nIf you’re ready to IDENTIFY and CLARIFY your goals…\nAnd if you want to HAVE FUN in a supportive atmosphere while doing it… \nThen grab a friend\, SIGN UP \nTicket Prices: $50 online pre-order / $60 at the door \n*** *** *** *** *** *** *** *** *** *** *** ***\nFAQ \nWhat is a Vision Board?\nA Vision Board is also known as Dream Board\, a Treasure Map\, Visual Explorer\, and a Creativity Collage. It is a simple visual presentation of things that you want to have\, be\, or do in your life. But as simple as it may seem\, it is one of the most powerful tools for manifesting the life or business you truly want. \nWhat to bring?\nSome friends and a few of your favorite magazines that you are willing to cut up and share! Bring pictures of you\, your loved ones\, and other images and words that inspire and energize you (but make sure you’re willing to cut and paste them onto a board). If you have them\, bring some scissors and glue sticks. And bring your desire to have a great time! \nWhat will be provided?\nYou will receive an actual framed board that you can take home with you. Additional magazines\, scissors\, poster paper and glue will be provided for you to assemble your Vision Boards. But\, feel free to bring your own visuals\, poster-board and/or frame if you’d like. Light refreshments will be served. \nRefund & Cancellation Policy:\nThe workshop fee is nonrefundable but is transferable to another person for this same event date. Register to guarantee your spot today! \nNeed more info?\nContact us via email theherd@inspiredelephant.com or visit www.inspiredelephant.com
URL:https://creativetwistevents.com/event/get-inspired-vision-board-workshop/
LOCATION:Creative Twist Events\, 10 Pearl Street\, Metuchen\, NJ\, 08840\, United States
ATTACH;FMTTYPE=image/jpeg:https://creativetwistevents.com/wp-content/uploads/2020/01/Vision-Board-Workshop.jpg
ORGANIZER;CN="Inspired Elephant":MAILTO:theherd@inspiredelephant.com
END:VEVENT
BEGIN:VEVENT
DTSTART;TZID=America/New_York:20200212T190000
DTEND;TZID=America/New_York:20200212T210000
DTSTAMP:20260420T214732
CREATED:20200121T171446Z
LAST-MODIFIED:20200130T184803Z
UID:10001278-1581534000-1581541200@creativetwistevents.com
SUMMARY:Sister Talk:Self-Care Practices
DESCRIPTION:We know\, you’re busy. Finding the time to take proper care of yourself can be hard. But if you don’t\, it won’t be long before you’re battered from exhaustion and operating in a mental fog where it’s hard to care about anything or anyone. Not to mention accomplishing those awesome 2020 goals. #NewDecade \nWith a little bit of attention to your own self-care\, you’ll feel more connected to yourself and the world around you. And\, nothing will seem quite as difficult as it did before. \nOur featured Sister Talk panelists will share with us the best way to implement simple self-care habits every day. And\, inspire us to regularly include in our lives a little bit of love and attention for our own body\, mind\, and soul. \nJoin us Wednesday\, Feb. 12th from 7 PM to 9 PM as we take a moment to get to know ourselves better and know what we needed—not just to function\, but to flourish! \nLearn more at: www.inspiredelephant.com/sister-talks.html \n— — — — — — —\nOur “Sister Talks” are informal gatherings\, which allow for peer learning with a group of like-minded women. They are hosted by a subject-matter expert or an inspired community member and are held quarterly at Creative Twist Events in Metuchen\, NJ. \nPrice per talk: $20 pre-registered / $25 at the door (light bites & drinks included)
URL:https://creativetwistevents.com/event/sister-talk/
LOCATION:Creative Twist Events\, 10 Pearl Street\, Metuchen\, NJ\, 08840\, United States
ATTACH;FMTTYPE=image/jpeg:https://creativetwistevents.com/wp-content/uploads/2020/01/Sister-Talk.jpg
END:VEVENT
END:VCALENDAR