BEGIN:VCALENDAR
VERSION:2.0
PRODID:-//Creative Twist Events - ECPv6.15.20//NONSGML v1.0//EN
CALSCALE:GREGORIAN
METHOD:PUBLISH
X-WR-CALNAME:Creative Twist Events
X-ORIGINAL-URL:https://creativetwistevents.com
X-WR-CALDESC:Events for Creative Twist Events
REFRESH-INTERVAL;VALUE=DURATION:PT1H
X-Robots-Tag:noindex
X-PUBLISHED-TTL:PT1H
BEGIN:VTIMEZONE
TZID:America/New_York
BEGIN:DAYLIGHT
TZOFFSETFROM:-0500
TZOFFSETTO:-0400
TZNAME:EDT
DTSTART:20220313T070000
END:DAYLIGHT
BEGIN:STANDARD
TZOFFSETFROM:-0400
TZOFFSETTO:-0500
TZNAME:EST
DTSTART:20221106T060000
END:STANDARD
BEGIN:DAYLIGHT
TZOFFSETFROM:-0500
TZOFFSETTO:-0400
TZNAME:EDT
DTSTART:20230312T070000
END:DAYLIGHT
BEGIN:STANDARD
TZOFFSETFROM:-0400
TZOFFSETTO:-0500
TZNAME:EST
DTSTART:20231105T060000
END:STANDARD
BEGIN:DAYLIGHT
TZOFFSETFROM:-0500
TZOFFSETTO:-0400
TZNAME:EDT
DTSTART:20240310T070000
END:DAYLIGHT
BEGIN:STANDARD
TZOFFSETFROM:-0400
TZOFFSETTO:-0500
TZNAME:EST
DTSTART:20241103T060000
END:STANDARD
END:VTIMEZONE
BEGIN:VEVENT
DTSTART;TZID=America/New_York:20231020T180000
DTEND;TZID=America/New_York:20231020T180000
DTSTAMP:20260421T234845
CREATED:20230927T152632Z
LAST-MODIFIED:20231018T145606Z
UID:10001489-1697824800-1697824800@creativetwistevents.com
SUMMARY:Haunted Gingerbread House Workshop @ Kurly Kürtősh
DESCRIPTION:Haunted Gingerbread House Workshop\nJoin us to launch the Halloween season at Kurly Kürtősh! Design your own mini gingerbread cookie house using fun edible materials and learn new techniques! \nDate: Friday Oct 20th\, 2023\nTime: 6pm\nLocation: Kurly Kürtősh – 74 E Passaic Ave\, Nutley NJ 07110\nAll Ages!\nTicket Price: $25 per child\, $20 each additional child. \nAfter you’re done\, make sure you take photos in front of our selfie station. \n\nIncluded in ticket:\nMini Gingerbread house\nCandy and decorations and instruction\nChimney cake tasting by Kurly Kürtősh\nSelfie moment
URL:https://creativetwistevents.com/event/haunted-gingerbread-house-workshop/
LOCATION:Kurly Kurtosh\, 74 E Passaic Ave\, Nutley\, NJ\, 07110\, United States
CATEGORIES:After School
ATTACH;FMTTYPE=image/jpeg:https://creativetwistevents.com/wp-content/uploads/2023/09/Haunted-Gingerbread-House.jpeg
END:VEVENT
END:VCALENDAR